BEGIN:VCALENDAR
VERSION:2.0
METHOD:PUBLISH
BEGIN:VEVENT
DTSTAMP:20260420T015119Z
DTSTART:20241107T004500Z
DTEND:20241107T004500Z
SUMMARY:Man Stretch - Yoga for Men
LOCATION:177 West St., Smithville
END:VEVENT
END:VCALENDAR
