BEGIN:VCALENDAR
VERSION:2.0
METHOD:PUBLISH
BEGIN:VEVENT
DTSTAMP:20260420T175359Z
DTSTART:20241113T233000Z
DTEND:20241113T233000Z
SUMMARY:Awaken the Warrior with Vinyasa
LOCATION:177 West St., Smithville
END:VEVENT
END:VCALENDAR
