BEGIN:VCALENDAR
VERSION:2.0
METHOD:PUBLISH
BEGIN:VEVENT
DTSTAMP:20260421T112316Z
DTSTART:20241202T221500Z
DTEND:20241202T230000Z
SUMMARY:Parent &amp; Child Multi-Sport Indoor Class (16 mos. - 3 yrs.)
LOCATION:177 West St., Smithville
END:VEVENT
END:VCALENDAR
