BEGIN:VCALENDAR
VERSION:2.0
METHOD:PUBLISH
BEGIN:VEVENT
DTSTAMP:20260421T082859Z
DTSTART:20241203T213000Z
DTEND:20241203T230000Z
SUMMARY:Youth Open Gym (ages 9-17)
LOCATION:177 West St., Smithville
END:VEVENT
END:VCALENDAR
