BEGIN:VCALENDAR
VERSION:2.0
METHOD:PUBLISH
BEGIN:VEVENT
DTSTAMP:20260421T080621Z
DTSTART:20241230T210000Z
DTEND:20241230T220000Z
SUMMARY:Stick and Puck (ages 6-12)
LOCATION:177 West St.
END:VEVENT
END:VCALENDAR
