BEGIN:VCALENDAR
VERSION:2.0
METHOD:PUBLISH
BEGIN:VEVENT
DTSTAMP:20260425T173143Z
DTSTART:20250105T000000Z
DTEND:20250105T010000Z
SUMMARY:Public Skating
LOCATION:177 West St.
END:VEVENT
END:VCALENDAR
