BEGIN:VCALENDAR
VERSION:2.0
METHOD:PUBLISH
BEGIN:VEVENT
DTSTAMP:20260425T190133Z
DTSTART:20250216T000000Z
DTEND:20250216T010000Z
SUMMARY:Public Skating
LOCATION:177 West St.
END:VEVENT
END:VCALENDAR
