BEGIN:VCALENDAR
VERSION:2.0
METHOD:PUBLISH
BEGIN:VEVENT
DTSTAMP:20260421T014041Z
DTSTART:20250304T004500Z
DTEND:20250304T004500Z
SUMMARY:Reclaiming Your Body Through Somatic Movement with Brad
LOCATION:177 West St., Smithville
END:VEVENT
END:VCALENDAR
