BEGIN:VCALENDAR
VERSION:2.0
METHOD:PUBLISH
BEGIN:VEVENT
DTSTAMP:20260425T203951Z
DTSTART:20250315T230000Z
DTEND:20250316T000000Z
SUMMARY:Public Skating
LOCATION:177 West St.
END:VEVENT
END:VCALENDAR
