BEGIN:VCALENDAR
VERSION:2.0
METHOD:PUBLISH
BEGIN:VEVENT
DTSTAMP:20260425T222449Z
DTSTART:20250405T230000Z
DTEND:20250406T000000Z
SUMMARY:Public Skating
LOCATION:177 West St.
END:VEVENT
END:VCALENDAR
