BEGIN:VCALENDAR
VERSION:2.0
METHOD:PUBLISH
BEGIN:VEVENT
DTSTAMP:20260421T195239Z
DTSTART:20250409T000000Z
DTEND:20250409T013000Z
SUMMARY:Adult Open Gym (18+)
LOCATION:177 West St., Smithville
END:VEVENT
END:VCALENDAR
