BEGIN:VCALENDAR
VERSION:2.0
METHOD:PUBLISH
BEGIN:VEVENT
DTSTAMP:20260421T092343Z
DTSTART:20250526T190000Z
DTEND:20250526T210000Z
SUMMARY:Beginner Pickleball 18+
LOCATION:177 West St., Smithville
END:VEVENT
END:VCALENDAR
