BEGIN:VCALENDAR
VERSION:2.0
METHOD:PUBLISH
BEGIN:VEVENT
DTSTAMP:20260422T170506Z
DTSTART:20260320T190000Z
DTEND:20260320T200000Z
SUMMARY:Free Public Skate - Sponsored by Konkle Plumbing and Heating
LOCATION:177 West St., Smithville
END:VEVENT
END:VCALENDAR
