BEGIN:VCALENDAR
VERSION:2.0
METHOD:PUBLISH
BEGIN:VEVENT
DTSTAMP:20260422T164718Z
DTSTART:20260330T143000Z
DTEND:20260330T160000Z
SUMMARY:Men's Shinny
LOCATION:177 West St., Smithville
END:VEVENT
END:VCALENDAR
