BEGIN:VCALENDAR
VERSION:2.0
METHOD:PUBLISH
BEGIN:VEVENT
DTSTAMP:20260423T175400Z
DTSTART:20260413T160000Z
DTEND:20260413T170000Z
SUMMARY:Low Sensory Public Skating
LOCATION:177 West St., Smithville
END:VEVENT
END:VCALENDAR
