BEGIN:VCALENDAR
VERSION:2.0
METHOD:PUBLISH
BEGIN:VEVENT
DTSTAMP:20260423T175440Z
DTSTART:20260413T200000Z
DTEND:20260413T210000Z
SUMMARY:Stick and Puck (ages 6-12)
LOCATION:177 West St., Smithville
END:VEVENT
END:VCALENDAR
