BEGIN:VCALENDAR
VERSION:2.0
METHOD:PUBLISH
BEGIN:VEVENT
DTSTAMP:20260423T175852Z
DTSTART:20260414T170000Z
DTEND:20260414T180000Z
SUMMARY:Preschool Skate/Stick and Puck (ages 0-6)
LOCATION:177 West St., Smithville
END:VEVENT
END:VCALENDAR
