BEGIN:VCALENDAR
VERSION:2.0
METHOD:PUBLISH
BEGIN:VEVENT
DTSTAMP:20260423T181714Z
DTSTART:20260414T180000Z
DTEND:20260414T190000Z
SUMMARY:Adult Skate
LOCATION:177 West St., Smithville
END:VEVENT
END:VCALENDAR
