BEGIN:VCALENDAR
VERSION:2.0
METHOD:PUBLISH
BEGIN:VEVENT
DTSTAMP:20260423T150337Z
DTSTART:20260414T231500Z
DTEND:20260414T231500Z
SUMMARY:Yoga for Golfers with Kara
LOCATION:177 West St., Smithville
END:VEVENT
END:VCALENDAR
