BEGIN:VCALENDAR
VERSION:2.0
METHOD:PUBLISH
BEGIN:VEVENT
DTSTAMP:20260423T163318Z
DTSTART:20260415T130000Z
DTEND:20260415T140000Z
SUMMARY:Preschool Skate/Stick and Puck (ages 0-6)
LOCATION:177 West St., Smithville
END:VEVENT
END:VCALENDAR
