BEGIN:VCALENDAR
VERSION:2.0
METHOD:PUBLISH
BEGIN:VEVENT
DTSTAMP:20260423T175701Z
DTSTART:20260416T203000Z
DTEND:20260416T220000Z
SUMMARY:Youth Open Gym (ages 9-12)
LOCATION:177 West St., Smithville
END:VEVENT
END:VCALENDAR
