BEGIN:VCALENDAR
VERSION:2.0
METHOD:PUBLISH
BEGIN:VEVENT
DTSTAMP:20260424T002130Z
DTSTART:20260417T140000Z
DTEND:20260417T160000Z
SUMMARY:Beginner Pickleball 18+
LOCATION:177 West St., Smithville
END:VEVENT
END:VCALENDAR
