BEGIN:VCALENDAR
VERSION:2.0
METHOD:PUBLISH
BEGIN:VEVENT
DTSTAMP:20260423T181822Z
DTSTART:20260417T230000Z
DTEND:20260418T010000Z
SUMMARY:Adult Volleyball (18+)
LOCATION:177 West Street, Smithville
END:VEVENT
END:VCALENDAR
