BEGIN:VCALENDAR
VERSION:2.0
METHOD:PUBLISH
BEGIN:VEVENT
DTSTAMP:20260423T143857Z
DTSTART:20260421T220000Z
DTEND:20260421T220000Z
SUMMARY:Hatha Yoga for Tight Hips with Kara
LOCATION:177 West St., Smithville
END:VEVENT
END:VCALENDAR
