BEGIN:VCALENDAR
VERSION:2.0
METHOD:PUBLISH
BEGIN:VEVENT
DTSTAMP:20260423T193513Z
DTSTART:20260421T223000Z
DTEND:20260422T003000Z
SUMMARY:All Levels Pickleball 18+
LOCATION:177 West St., Smithville
END:VEVENT
END:VCALENDAR
