BEGIN:VCALENDAR
VERSION:2.0
METHOD:PUBLISH
BEGIN:VEVENT
DTSTAMP:20260423T182508Z
DTSTART:20260421T231500Z
DTEND:20260421T231500Z
SUMMARY:Yoga for Golfers with Kara
LOCATION:177 West St., Smithville
END:VEVENT
END:VCALENDAR
