BEGIN:VCALENDAR
VERSION:2.0
METHOD:PUBLISH
BEGIN:VEVENT
DTSTAMP:20260423T194204Z
DTSTART:20260422T133000Z
DTEND:20260422T133000Z
SUMMARY:Gentle Yoga with Melinda
LOCATION:177 West St., Smithville
END:VEVENT
END:VCALENDAR
