BEGIN:VCALENDAR
VERSION:2.0
METHOD:PUBLISH
BEGIN:VEVENT
DTSTAMP:20260423T175425Z
DTSTART:20260422T230000Z
DTEND:20260422T230000Z
SUMMARY:Man Stretch - Yoga for Men with Megan
LOCATION:177 West St., Smithville
END:VEVENT
END:VCALENDAR
