BEGIN:VCALENDAR
VERSION:2.0
METHOD:PUBLISH
BEGIN:VEVENT
DTSTAMP:20260423T194121Z
DTSTART:20260429T140000Z
DTEND:20260429T140000Z
SUMMARY:Gentle Yoga with Melinda
LOCATION:177 West St., Smithville
END:VEVENT
END:VCALENDAR
