BEGIN:VCALENDAR
VERSION:2.0
METHOD:PUBLISH
BEGIN:VEVENT
DTSTAMP:20260423T181517Z
DTSTART:20260502T150000Z
DTEND:20260502T163000Z
SUMMARY:Family Open Gym
LOCATION:177 West St., Smithville
END:VEVENT
END:VCALENDAR
