BEGIN:VCALENDAR
VERSION:2.0
METHOD:PUBLISH
BEGIN:VEVENT
DTSTAMP:20260423T160917Z
DTSTART:20260505T220000Z
DTEND:20260505T220000Z
SUMMARY:Hatha Yoga for Tight Hips with Kara
LOCATION:177 West St., Smithville
END:VEVENT
END:VCALENDAR
