BEGIN:VCALENDAR
VERSION:2.0
METHOD:PUBLISH
BEGIN:VEVENT
DTSTAMP:20260423T160131Z
DTSTART:20260506T140000Z
DTEND:20260506T160000Z
SUMMARY:All Levels Pickleball 18+
LOCATION:177 West St., Smithville
END:VEVENT
END:VCALENDAR
