BEGIN:VCALENDAR
VERSION:2.0
METHOD:PUBLISH
BEGIN:VEVENT
DTSTAMP:20260423T193309Z
DTSTART:20260506T170000Z
DTEND:20260506T190000Z
SUMMARY:Advanced Pickleball 18+
LOCATION:177 West St., Smithville
END:VEVENT
END:VCALENDAR
