BEGIN:VCALENDAR
VERSION:2.0
METHOD:PUBLISH
BEGIN:VEVENT
DTSTAMP:20260423T212347Z
DTSTART:20260508T131500Z
DTEND:20260508T131500Z
SUMMARY:Gentle Yoga with Melinda
LOCATION:177 West St., Smithville
END:VEVENT
END:VCALENDAR
