BEGIN:VCALENDAR
VERSION:2.0
METHOD:PUBLISH
BEGIN:VEVENT
DTSTAMP:20260423T175203Z
DTSTART:20260508T143000Z
DTEND:20260508T160000Z
SUMMARY:Ukulele Jam Session 55+ (free)
LOCATION:177 West St., Smithville
END:VEVENT
END:VCALENDAR
