BEGIN:VCALENDAR
VERSION:2.0
METHOD:PUBLISH
BEGIN:VEVENT
DTSTAMP:20260423T174746Z
DTSTART:20260513T170000Z
DTEND:20260513T190000Z
SUMMARY:Advanced Pickleball 18+
LOCATION:177 West St., Smithville
END:VEVENT
END:VCALENDAR
