BEGIN:VCALENDAR
VERSION:2.0
METHOD:PUBLISH
BEGIN:VEVENT
DTSTAMP:20260423T172517Z
DTSTART:20260515T180000Z
DTEND:20260515T200000Z
SUMMARY:Advanced Pickleball 18+
LOCATION:177 West St., Smithville
END:VEVENT
END:VCALENDAR
