BEGIN:VCALENDAR
VERSION:2.0
METHOD:PUBLISH
BEGIN:VEVENT
DTSTAMP:20260423T163430Z
DTSTART:20260515T203000Z
DTEND:20260515T223000Z
SUMMARY:Youth Floor Hockey, Soccer and Dodgeball
LOCATION:177 West Street, Smithville
END:VEVENT
END:VCALENDAR
