BEGIN:VCALENDAR
VERSION:2.0
METHOD:PUBLISH
BEGIN:VEVENT
DTSTAMP:20260423T212806Z
DTSTART:20260521T133000Z
DTEND:20260521T133000Z
SUMMARY:Mom and Baby Fit with Jen
LOCATION:177 West St., Smithville
END:VEVENT
END:VCALENDAR
