BEGIN:VCALENDAR
VERSION:2.0
METHOD:PUBLISH
BEGIN:VEVENT
DTSTAMP:20260423T182715Z
DTSTART:20260521T140000Z
DTEND:20260521T140000Z
SUMMARY:Sit and Strengthen with Kara
LOCATION:177 West St., Smithville
END:VEVENT
END:VCALENDAR
