BEGIN:VCALENDAR
VERSION:2.0
METHOD:PUBLISH
BEGIN:VEVENT
DTSTAMP:20260423T212337Z
DTSTART:20260522T131500Z
DTEND:20260522T131500Z
SUMMARY:Gentle Yoga with Melinda
LOCATION:177 West St., Smithville
END:VEVENT
END:VCALENDAR
