BEGIN:VCALENDAR
VERSION:2.0
METHOD:PUBLISH
BEGIN:VEVENT
DTSTAMP:20260424T000629Z
DTSTART:20260523T150000Z
DTEND:20260523T163000Z
SUMMARY:Family Open Gym
LOCATION:177 West St., Smithville
END:VEVENT
END:VCALENDAR
