BEGIN:VCALENDAR
VERSION:2.0
METHOD:PUBLISH
BEGIN:VEVENT
DTSTAMP:20260423T211037Z
DTSTART:20260530T130000Z
DTEND:20260530T150000Z
SUMMARY:All Levels Pickleball 18+
LOCATION:177 West St., Smithville
END:VEVENT
END:VCALENDAR
