BEGIN:VCALENDAR
VERSION:2.0
METHOD:PUBLISH
BEGIN:VEVENT
DTSTAMP:20260423T192356Z
DTSTART:20260601T140000Z
DTEND:20260601T160000Z
SUMMARY:All Levels Pickleball 18+
LOCATION:177 West St., Smithville
END:VEVENT
END:VCALENDAR
