BEGIN:VCALENDAR
VERSION:2.0
METHOD:PUBLISH
BEGIN:VEVENT
DTSTAMP:20260423T163055Z
DTSTART:20260602T133000Z
DTEND:20260602T133000Z
SUMMARY:Chair Yoga with Melinda
LOCATION:177 West St., Smithville
END:VEVENT
END:VCALENDAR
