BEGIN:VCALENDAR
VERSION:2.0
METHOD:PUBLISH
BEGIN:VEVENT
DTSTAMP:20260424T021444Z
DTSTART:20260605T140000Z
DTEND:20260605T160000Z
SUMMARY:Beginner Pickleball 18+
LOCATION:177 West St., Smithville
END:VEVENT
END:VCALENDAR
