BEGIN:VCALENDAR
VERSION:2.0
METHOD:PUBLISH
BEGIN:VEVENT
DTSTAMP:20260423T193257Z
DTSTART:20260605T180000Z
DTEND:20260605T200000Z
SUMMARY:Advanced Pickleball 18+
LOCATION:177 West St., Smithville
END:VEVENT
END:VCALENDAR
