BEGIN:VCALENDAR
VERSION:2.0
METHOD:PUBLISH
BEGIN:VEVENT
DTSTAMP:20260423T183252Z
DTSTART:20260605T203000Z
DTEND:20260605T223000Z
SUMMARY:Youth Floor Hockey, Soccer and Dodgeball
LOCATION:177 West Street, Smithville
END:VEVENT
END:VCALENDAR
