BEGIN:VCALENDAR
VERSION:2.0
METHOD:PUBLISH
BEGIN:VEVENT
DTSTAMP:20260423T194615Z
DTSTART:20260609T203000Z
DTEND:20260609T223000Z
SUMMARY:Youth Basketball (school ages)
LOCATION:177 West Street, Smithville
END:VEVENT
END:VCALENDAR
