BEGIN:VCALENDAR
VERSION:2.0
METHOD:PUBLISH
BEGIN:VEVENT
DTSTAMP:20260423T172548Z
DTSTART:20260609T223000Z
DTEND:20260610T003000Z
SUMMARY:All Levels Pickleball 18+
LOCATION:177 West St., Smithville
END:VEVENT
END:VCALENDAR
